BEGIN:VCALENDAR
VERSION:2.0
PRODID:Events Booking
BEGIN:VEVENT
UID:69e616bcbc4c6
SUMMARY:Forum des associations
DESCRIPTION:Découvrez toute la palette d'activités proposées par le tiss
 u associatif local
LOCATION:Avenue Georges Clemenceau\, La Londe-les-Maures\, Toulon\, Var\, P
 rovence-Alpes-Côte d'Azur\, France métropolitaine\, 83250\, France
DTSTART:20220910T140000Z
DTEND:20220910T180000Z
DTSTAMP:20260420T140620Z
ORGANIZER;CN=Service Communication:MAILTO:info@ville-lalondelesmaures.fr
GEO:43.138405;6.236147
X-APPLE-STRUCTURED-LOCATION;VALUE=URI;X-ADDRESS=Avenue Georges Clemenceau\,
  La Londe-les-Maures\, Toulon\, Var\, Provence-Alpes-Côte d'Azur\, France
  métropolitaine\, 83250\, France;X-APPLE-RADIUS=72;X-TITLE=avenue Georges
 -Clemenceau:43.138405;6.236147
END:VEVENT
END:VCALENDAR