BEGIN:VCALENDAR
VERSION:2.0
PRODID:Events Booking
BEGIN:VEVENT
UID:69e5eb084e9d0
SUMMARY:Après-midi dansant
DESCRIPTION:du Comité de Jumelage La Londe / Galbiate
LOCATION:Salle Yann Piat\, Rue de la Salle des Fêtes\, La Londe-les-Maures
 \, Toulon\, Var\, Provence-Alpes-Côte d'Azur\, France métropolitaine\, 8
 3250\, France
DTSTART:20250223T143000Z
DTEND:20250223T180000Z
DTSTAMP:20220531T131512Z
ORGANIZER;CN=Service Communication:MAILTO:info@ville-lalondelesmaures.fr
GEO:43.141861;6.233883
X-APPLE-STRUCTURED-LOCATION;VALUE=URI;X-ADDRESS=Salle Yann Piat\, Rue de la
  Salle des Fêtes\, La Londe-les-Maures\, Toulon\, Var\, Provence-Alpes-C
 ôte d'Azur\, France métropolitaine\, 83250\, France;X-APPLE-RADIUS=72;X-
 TITLE=Salle Yann Piat:43.141861;6.233883
END:VEVENT
END:VCALENDAR