BEGIN:VCALENDAR
VERSION:2.0
PRODID:Events Booking
BEGIN:VEVENT
UID:69ec2510b7fe7
SUMMARY:Cinéma en plein air
DESCRIPTION:\"Un P'tit Truc en Plus\"
LOCATION:Casino\, Allée Henri-Jacques Espérandieu\, La Londe-les-Maures\,
  Toulon\, Var\, Provence-Alpes-Côte d'Azur\, France métropolitaine\, 832
 50\, France
DTSTART:20250726T213000Z
DTEND:20250726T000000Z
DTSTAMP:20250618T090656Z
ORGANIZER;CN=Service Communication:MAILTO:info@ville-lalondelesmaures.fr
GEO:43.138499;6.237466
X-APPLE-STRUCTURED-LOCATION;VALUE=URI;X-ADDRESS=Casino\, Allée Henri-Jacqu
 es Espérandieu\, La Londe-les-Maures\, Toulon\, Var\, Provence-Alpes-Côt
 e d'Azur\, France métropolitaine\, 83250\, France;X-APPLE-RADIUS=72;X-TIT
 LE=Place Camoin:43.138499;6.237466
END:VEVENT
END:VCALENDAR